BEGIN:VCALENDAR
VERSION:2.0
PRODID:-//Kunstverein Fellbach e. V. - ECPv6.15.20//NONSGML v1.0//EN
CALSCALE:GREGORIAN
METHOD:PUBLISH
X-WR-CALNAME:Kunstverein Fellbach e. V.
X-ORIGINAL-URL:https://www.kunstverein-fellbach.de
X-WR-CALDESC:Veranstaltungen für Kunstverein Fellbach e. V.
REFRESH-INTERVAL;VALUE=DURATION:PT1H
X-Robots-Tag:noindex
X-PUBLISHED-TTL:PT1H
BEGIN:VTIMEZONE
TZID:Europe/Berlin
BEGIN:DAYLIGHT
TZOFFSETFROM:+0100
TZOFFSETTO:+0200
TZNAME:CEST
DTSTART:20240331T010000
END:DAYLIGHT
BEGIN:STANDARD
TZOFFSETFROM:+0200
TZOFFSETTO:+0100
TZNAME:CET
DTSTART:20241027T010000
END:STANDARD
BEGIN:DAYLIGHT
TZOFFSETFROM:+0100
TZOFFSETTO:+0200
TZNAME:CEST
DTSTART:20250330T010000
END:DAYLIGHT
BEGIN:STANDARD
TZOFFSETFROM:+0200
TZOFFSETTO:+0100
TZNAME:CET
DTSTART:20251026T010000
END:STANDARD
BEGIN:DAYLIGHT
TZOFFSETFROM:+0100
TZOFFSETTO:+0200
TZNAME:CEST
DTSTART:20260329T010000
END:DAYLIGHT
BEGIN:STANDARD
TZOFFSETFROM:+0200
TZOFFSETTO:+0100
TZNAME:CET
DTSTART:20261025T010000
END:STANDARD
END:VTIMEZONE
BEGIN:VEVENT
DTSTART;TZID=Europe/Berlin:20250228T193000
DTEND;TZID=Europe/Berlin:20250228T193000
DTSTAMP:20260421T142715
CREATED:20241225T103944Z
LAST-MODIFIED:20241225T103944Z
UID:4942-1740771000-1740771000@www.kunstverein-fellbach.de
SUMMARY:Lesung: Rainer Moritz | "Ein Lied kann eine Brücke sein"
DESCRIPTION:Nun gibt es die Gelegenheit\, das Schlagerland Baden-Württemberg zu entdecken! Rainer Moritz präsentiert vierzig Sänger\, Duos und Bands\, die hier geboren wurden oder hier leb(t)en: von den Flippers (Weine nicht\, kleine Eva) über Joy Fleming (Ein Lied kann eine Brücke sein) und Andrea Berg (Du hast mich tausendmal belogen) bis zum genialen Schlager-Reanimateur Dieter Thomas Kuhn und den nicht Schlager-typischen Fanta 4 (Die da!?!). Ihren ausgewählten Evergreens widmet Rainer Moritz\, der Experte des populären Liedguts\, eine kenntnisreiche\, subjektive und erhellende Interpretation. Auch Humor und Ironie kommen nicht zu kurz\, so sagt der Autor selbst „manches ist nur mit zwei Viertele auszuhalten“. Also Ohren auf und durch – oder eben gleich mitsingen. \nRainer Moritz\, geboren 1958 in Heilbronn\, hat in Tübingen Germanistik\, Philosophie und Romanistik studiert. Seit 2005 leitet er das Literaturhaus Hamburg. Rainer Moritz ist Literaturkritiker\, Übersetzer und Autor zahlreicher Bücher\, darunter die Monografie Udo Jürgens. Sein neuestes Buch „Ein Lied kann eine Brücke sein“ ist Ende September 2024 erschienen
URL:https://www.kunstverein-fellbach.de/event/lesung-rainer-moritz-ein-lied-kann-eine-bruecke-sein/
LOCATION:Kunstverein-Keller\, Cannstatter Straße 9\, Fellbach\, Baden Württemberg\, 70734\, Deutschland
CATEGORIES:Lesung
ATTACH;FMTTYPE=image/jpeg:https://www.kunstverein-fellbach.de/wp-content/uploads/2024/12/Rainer-Moritz.jpg
ORGANIZER;CN="Kunstverein Fellbach":MAILTO:info@kunstverein-fellbach.de
END:VEVENT
END:VCALENDAR